BEGIN:VCALENDAR
VERSION:2.0
PRODID:-//ChamberMaster//Event Calendar 2.0//EN
METHOD:PUBLISH
X-PUBLISHED-TTL:P3D
REFRESH-INTERVAL:P3D
CALSCALE:GREGORIAN
BEGIN:VEVENT
DTSTART:20210812T140000Z
DTEND:20210812T150000Z
X-MICROSOFT-CDO-ALLDAYEVENT:FALSE
SUMMARY:Board Meeting
DESCRIPTION:
X-ALT-DESC;FMTTYPE=text/html:
LOCATION:Byram Chamber Business Center 130 Southpointe Drive\, Suite O
UID:e.3148.85
SEQUENCE:3
DTSTAMP:20260425T013536Z
URL:http://byramms.chambermaster.com/events/details/board-meeting-85
END:VEVENT

END:VCALENDAR
