BEGIN:VCALENDAR
VERSION:2.0
PRODID:-//ChamberMaster//Event Calendar 2.0//EN
METHOD:PUBLISH
X-PUBLISHED-TTL:P3D
REFRESH-INTERVAL:P3D
CALSCALE:GREGORIAN
BEGIN:VEVENT
DTSTART:20210811T143000Z
DTEND:20210811T150000Z
X-MICROSOFT-CDO-ALLDAYEVENT:FALSE
SUMMARY:Coffee Break - NEW Byram Chamber Benefits
DESCRIPTION:Sponsored by Richards Front Wheel Drive
X-ALT-DESC;FMTTYPE=text/html:Sponsored by Richards Front Wheel Drive
LOCATION:Byram City Hall\, 5901 Terry Road
UID:e.3148.84
SEQUENCE:3
DTSTAMP:20260423T200528Z
URL:http://byramms.chambermaster.com/events/details/coffee-break-new-byram-chamber-benefits-84
END:VEVENT

END:VCALENDAR
