BEGIN:VCALENDAR
VERSION:2.0
PRODID:-//ChamberMaster//Event Calendar 2.0//EN
METHOD:PUBLISH
X-PUBLISHED-TTL:P3D
REFRESH-INTERVAL:P3D
CALSCALE:GREGORIAN
BEGIN:VEVENT
DTSTART:20210602T143000Z
DTEND:20210602T150000Z
X-MICROSOFT-CDO-ALLDAYEVENT:FALSE
SUMMARY:Coffee Break - Nowell Agency
DESCRIPTION:
X-ALT-DESC;FMTTYPE=text/html:
LOCATION:7116 Siwell Road
UID:e.3148.67
SEQUENCE:3
DTSTAMP:20260426T020755Z
URL:http://byramms.chambermaster.com/events/details/coffee-break-nowell-agency-67
END:VEVENT

END:VCALENDAR
