BEGIN:VCALENDAR
VERSION:2.0
PRODID:-//ChamberMaster//Event Calendar 2.0//EN
METHOD:PUBLISH
X-PUBLISHED-TTL:P3D
REFRESH-INTERVAL:P3D
CALSCALE:GREGORIAN
BEGIN:VEVENT
DTSTART:20210428T143000Z
DTEND:20210428T150000Z
X-MICROSOFT-CDO-ALLDAYEVENT:FALSE
SUMMARY:Facebook Live : Meet the Candidates
DESCRIPTION:
X-ALT-DESC;FMTTYPE=text/html:
LOCATION:
UID:e.3148.69
SEQUENCE:3
DTSTAMP:20260425T230037Z
URL:http://byramms.chambermaster.com/events/details/facebook-live-meet-the-candidates-69
END:VEVENT

END:VCALENDAR
