BEGIN:VCALENDAR
VERSION:2.0
PRODID:-//ChamberMaster//Event Calendar 2.0//EN
METHOD:PUBLISH
X-PUBLISHED-TTL:P3D
REFRESH-INTERVAL:P3D
CALSCALE:GREGORIAN
BEGIN:VEVENT
DTSTART:20211031T170000Z
DTEND:20211031T220000Z
X-MICROSOFT-CDO-ALLDAYEVENT:FALSE
SUMMARY:It's Fall Y'all Vendor Market
DESCRIPTION:Contact Stacy Smith with Custom Creationz for more information: 769-230-5030
X-ALT-DESC;FMTTYPE=text/html:Contact Stacy Smith with Custom Creationz for more information: 769-230-5030
LOCATION:Swinging Bridget Market
UID:e.3148.100
SEQUENCE:3
DTSTAMP:20260422T200853Z
URL:http://byramms.chambermaster.com/events/details/it-s-fall-y-all-vendor-market-100
END:VEVENT

END:VCALENDAR
