BEGIN:VCALENDAR
VERSION:2.0
PRODID:-//ChamberMaster//Event Calendar 2.0//EN
METHOD:PUBLISH
X-PUBLISHED-TTL:P3D
REFRESH-INTERVAL:P3D
CALSCALE:GREGORIAN
BEGIN:VEVENT
DTSTART;VALUE=DATE:20210615
DTEND;VALUE=DATE:20210616
TRANSP:TRANSPARENT
X-MICROSOFT-CDO-ALLDAYEVENT:TRUE
SUMMARY:Membership Luncheon
DESCRIPTION:Guest Speaker: Senator David Blount
X-ALT-DESC;FMTTYPE=text/html:Guest Speaker: Senator David Blount
LOCATION:Country Woods Baptist Church\, 6737 Siwell Road
UID:e.3148.71
SEQUENCE:3
DTSTAMP:20260425T013715Z
URL:http://byramms.chambermaster.com/events/details/membership-luncheon-71
END:VEVENT

END:VCALENDAR
