BEGIN:VCALENDAR
VERSION:2.0
PRODID:-//ChamberMaster//Event Calendar 2.0//EN
METHOD:PUBLISH
X-PUBLISHED-TTL:P3D
REFRESH-INTERVAL:P3D
CALSCALE:GREGORIAN
BEGIN:VEVENT
DTSTART:20211019T014500Z
DTEND:20211019T030000Z
X-MICROSOFT-CDO-ALLDAYEVENT:FALSE
SUMMARY:Membership Luncheon
DESCRIPTION:Guest Speaker: David Henry\, CEO of Merit Health Central\n\n\n\nRSVP required - byramchamber@gmail.com
X-ALT-DESC;FMTTYPE=text/html:Guest Speaker: David Henry\, CEO of Merit Health Central<br />\n<br />\nRSVP required - byramchamber@gmail.com<br />\n&nbsp\;
LOCATION:Terry Mercantile Steak Co - 129 Cunningham Street\, Terry 39170
UID:e.3148.99
SEQUENCE:3
DTSTAMP:20260423T121004Z
URL:http://byramms.chambermaster.com/events/details/membership-luncheon-99
END:VEVENT

END:VCALENDAR
