BEGIN:VCALENDAR
VERSION:2.0
PRODID:-//ChamberMaster//Event Calendar 2.0//EN
METHOD:PUBLISH
X-PUBLISHED-TTL:P3D
REFRESH-INTERVAL:P3D
CALSCALE:GREGORIAN
BEGIN:VEVENT
DTSTART:20210518T164500Z
DTEND:20210518T180000Z
X-MICROSOFT-CDO-ALLDAYEVENT:FALSE
SUMMARY:Membership Luncheon - Dockery Grill
DESCRIPTION:The theme of this month's membership luncheon is "Meet the Candidate". All candidates in our 2021 Alderman & Mayoral election have been invited to attend. Each candidate will have 2-3 minutes to introduce themselves\, and share their vision for Byram. \n\n\n\nMenu\n\nMain Dishes: Salsbury Steak & Baked Chicken\n\nSides: Mac & Cheese\, Seasoned Fries\, Garden Salad & Bread\n\nDessert: TBD
X-ALT-DESC;FMTTYPE=text/html:The theme of this month&#39\;s membership luncheon is &quot\;Meet the Candidate&quot\;. All candidates in our 2021 Alderman &amp\; Mayoral election have been invited to attend. Each candidate will have 2-3 minutes to introduce themselves\, and share their vision for Byram.&nbsp\;<br />\n<br />\nMenu<br />\nMain Dishes: Salsbury Steak &amp\; Baked Chicken<br />\nSides: Mac &amp\; Cheese\, Seasoned Fries\, Garden Salad &amp\; Bread<br />\nDessert: TBD
LOCATION:Dockery Grill : 6791 Siwell Road\, Byram
UID:e.3148.70
SEQUENCE:3
DTSTAMP:20260425T134106Z
URL:http://byramms.chambermaster.com/events/details/membership-luncheon-dockery-grill-70
END:VEVENT

END:VCALENDAR
