BEGIN:VCALENDAR
VERSION:2.0
PRODID:-//ChamberMaster//Event Calendar 2.0//EN
METHOD:PUBLISH
X-PUBLISHED-TTL:P3D
REFRESH-INTERVAL:P3D
CALSCALE:GREGORIAN
BEGIN:VEVENT
DTSTART:20210921T164500Z
DTEND:20210921T180000Z
X-MICROSOFT-CDO-ALLDAYEVENT:FALSE
SUMMARY:Membership Luncheon & Ribbon Cutting - Fortune's Kitchen
DESCRIPTION:Guest Speaker: MS Insurance Commissioner Mike Cheney\n\n\n\nCatered by Fortune's Kitchen Food Truck\n\nPan Trout\, Chicken on a Stick\, BBQ Baked Beans\, Crinkle Fries\, Strawberry Shortcake
X-ALT-DESC;FMTTYPE=text/html:Guest Speaker: MS Insurance Commissioner Mike Cheney<br />\n<br />\nCatered by Fortune&#39\;s Kitchen Food Truck<br />\nPan Trout\, Chicken on a Stick\, BBQ Baked Beans\, Crinkle Fries\, Strawberry Shortcake<br />\n&nbsp\;
LOCATION:
UID:e.3148.86
SEQUENCE:3
DTSTAMP:20260425T182734Z
URL:http://byramms.chambermaster.com/events/details/membership-luncheon-ribbon-cutting-fortune-s-kitchen-86
END:VEVENT

END:VCALENDAR
