BEGIN:VCALENDAR
VERSION:2.0
PRODID:-//ChamberMaster//Event Calendar 2.0//EN
METHOD:PUBLISH
X-PUBLISHED-TTL:P3D
REFRESH-INTERVAL:P3D
CALSCALE:GREGORIAN
BEGIN:VEVENT
DTSTART:20211006T143000Z
DTEND:20211006T150000Z
X-MICROSOFT-CDO-ALLDAYEVENT:FALSE
SUMMARY:Ribbon Cutting - Burk Lei
DESCRIPTION:Photography Studio
X-ALT-DESC;FMTTYPE=text/html:Photography Studio
LOCATION:20 Air Stream Lane (Swinging Bridge Market)
UID:e.3148.95
SEQUENCE:3
DTSTAMP:20260423T091757Z
URL:http://byramms.chambermaster.com/events/details/ribbon-cutting-burk-lei-95
END:VEVENT

END:VCALENDAR
