BEGIN:VCALENDAR
VERSION:2.0
PRODID:-//ChamberMaster//Event Calendar 2.0//EN
METHOD:PUBLISH
X-PUBLISHED-TTL:P3D
REFRESH-INTERVAL:P3D
CALSCALE:GREGORIAN
BEGIN:VEVENT
DTSTART:20210908T143000Z
DTEND:20210908T150000Z
X-MICROSOFT-CDO-ALLDAYEVENT:FALSE
SUMMARY:Ribbon Cutting - GMBH Academy
DESCRIPTION:
X-ALT-DESC;FMTTYPE=text/html:
LOCATION:820 Cooper Road\, Suite L\, Jackson 39212
UID:e.3148.87
SEQUENCE:3
DTSTAMP:20260424T112908Z
URL:http://byramms.chambermaster.com/events/details/ribbon-cutting-gmbh-academy-87
END:VEVENT

END:VCALENDAR
