BEGIN:VCALENDAR
VERSION:2.0
PRODID:-//ChamberMaster//Event Calendar 2.0//EN
METHOD:PUBLISH
X-PUBLISHED-TTL:P3D
REFRESH-INTERVAL:P3D
CALSCALE:GREGORIAN
BEGIN:VEVENT
DTSTART:20210421T160000Z
DTEND:20210421T163000Z
X-MICROSOFT-CDO-ALLDAYEVENT:FALSE
SUMMARY:Ribbon Cutting - Hot Shots
DESCRIPTION:Help us welcome Cap'n Jacks Hot Shots!
X-ALT-DESC;FMTTYPE=text/html:Help us welcome Cap&#39\;n Jacks Hot Shots!
LOCATION:
UID:e.3148.56
SEQUENCE:3
DTSTAMP:20260425T223108Z
URL:http://byramms.chambermaster.com/events/details/ribbon-cutting-hot-shots-56
END:VEVENT

END:VCALENDAR
