BEGIN:VCALENDAR
VERSION:2.0
PRODID:-//ChamberMaster//Event Calendar 2.0//EN
METHOD:PUBLISH
X-PUBLISHED-TTL:P3D
REFRESH-INTERVAL:P3D
CALSCALE:GREGORIAN
BEGIN:VEVENT
DTSTART:20210626T150000Z
DTEND:20210627T030000Z
X-MICROSOFT-CDO-ALLDAYEVENT:FALSE
SUMMARY:Swinging Bridge Festival
DESCRIPTION:
X-ALT-DESC;FMTTYPE=text/html:
LOCATION:
UID:e.3148.79
SEQUENCE:3
DTSTAMP:20260425T223108Z
URL:http://byramms.chambermaster.com/events/details/swinging-bridge-festival-79
END:VEVENT

END:VCALENDAR
